BEGIN:VCALENDAR
VERSION:2.0
PRODID:-//Cé Orquestra Pantasma - ECPv6.15.20//NONSGML v1.0//EN
CALSCALE:GREGORIAN
METHOD:PUBLISH
X-WR-CALNAME:Cé Orquestra Pantasma
X-ORIGINAL-URL:https://ceorquestra.gal
X-WR-CALDESC:Events for Cé Orquestra Pantasma
REFRESH-INTERVAL;VALUE=DURATION:PT1H
X-Robots-Tag:noindex
X-PUBLISHED-TTL:PT1H
BEGIN:VTIMEZONE
TZID:Europe/Madrid
BEGIN:DAYLIGHT
TZOFFSETFROM:+0100
TZOFFSETTO:+0200
TZNAME:CEST
DTSTART:20240331T010000
END:DAYLIGHT
BEGIN:STANDARD
TZOFFSETFROM:+0200
TZOFFSETTO:+0100
TZNAME:CET
DTSTART:20241027T010000
END:STANDARD
BEGIN:DAYLIGHT
TZOFFSETFROM:+0100
TZOFFSETTO:+0200
TZNAME:CEST
DTSTART:20250330T010000
END:DAYLIGHT
BEGIN:STANDARD
TZOFFSETFROM:+0200
TZOFFSETTO:+0100
TZNAME:CET
DTSTART:20251026T010000
END:STANDARD
BEGIN:DAYLIGHT
TZOFFSETFROM:+0100
TZOFFSETTO:+0200
TZNAME:CEST
DTSTART:20260329T010000
END:DAYLIGHT
BEGIN:STANDARD
TZOFFSETFROM:+0200
TZOFFSETTO:+0100
TZNAME:CET
DTSTART:20261025T010000
END:STANDARD
BEGIN:DAYLIGHT
TZOFFSETFROM:+0100
TZOFFSETTO:+0200
TZNAME:CEST
DTSTART:20270328T010000
END:DAYLIGHT
BEGIN:STANDARD
TZOFFSETFROM:+0200
TZOFFSETTO:+0100
TZNAME:CET
DTSTART:20271031T010000
END:STANDARD
END:VTIMEZONE
BEGIN:VEVENT
DTSTART;VALUE=DATE:20260223
DTEND;VALUE=DATE:20260224
DTSTAMP:20260421T033839
CREATED:20251222T084323Z
LAST-MODIFIED:20251222T084323Z
UID:10000031-1771804800-1771891199@ceorquestra.gal
SUMMARY:A CORUÑA. Festa na Escola
DESCRIPTION:
URL:https://ceorquestra.gal/eventos/a-coruna-festa-na-escola/
END:VEVENT
BEGIN:VEVENT
DTSTART;VALUE=DATE:20260213
DTEND;VALUE=DATE:20260214
DTSTAMP:20260421T033839
CREATED:20251222T084853Z
LAST-MODIFIED:20260121T112221Z
UID:10000033-1770940800-1771027199@ceorquestra.gal
SUMMARY:RIBEIRA\, Carreira. Festa na Escola
DESCRIPTION:
URL:https://ceorquestra.gal/eventos/ribeira-carreirra-festa-na-escola/
END:VEVENT
BEGIN:VEVENT
DTSTART;VALUE=DATE:20260125
DTEND;VALUE=DATE:20260126
DTSTAMP:20260421T033839
CREATED:20251222T084546Z
LAST-MODIFIED:20260121T112156Z
UID:10000032-1769299200-1769385599@ceorquestra.gal
SUMMARY:MOS\, Sala Rebullón. XI Festival Solidario Aluméame
DESCRIPTION:
URL:https://ceorquestra.gal/eventos/mos-sala-rebullon-festival-solidario/
END:VEVENT
BEGIN:VEVENT
DTSTART;TZID=Europe/Madrid:20260102T173000
DTEND;TZID=Europe/Madrid:20260102T183000
DTSTAMP:20260421T033839
CREATED:20251218T225047Z
LAST-MODIFIED:20251218T230738Z
UID:10000029-1767375000-1767378600@ceorquestra.gal
SUMMARY:"Home Festa" en Prodeme\, Monforte
DESCRIPTION:
URL:https://ceorquestra.gal/eventos/home-festa-en-prodeme-monforte/
END:VEVENT
BEGIN:VEVENT
DTSTART;TZID=Europe/Madrid:20251230T180000
DTEND;TZID=Europe/Madrid:20251230T190000
DTSTAMP:20260421T033839
CREATED:20251218T224928Z
LAST-MODIFIED:20251218T224928Z
UID:10000028-1767117600-1767121200@ceorquestra.gal
SUMMARY:A Voar no Centro Cultural de Reboreda\, Redondela
DESCRIPTION:
URL:https://ceorquestra.gal/eventos/a-voar-no-centro-cultural-de-reboreda-redondela/
LOCATION:Centro Cultural de Reboreda\, Redondela
END:VEVENT
BEGIN:VEVENT
DTSTART;TZID=Europe/Madrid:20251228T230000
DTEND;TZID=Europe/Madrid:20251229T010000
DTSTAMP:20260421T033839
CREATED:20251218T224324Z
LAST-MODIFIED:20251218T224324Z
UID:10000027-1766962800-1766970000@ceorquestra.gal
SUMMARY:Concerto no Clavicémbalo\, Lugo
DESCRIPTION:
URL:https://ceorquestra.gal/eventos/concerto-no-clavicembalo-lugo/
END:VEVENT
BEGIN:VEVENT
DTSTART;TZID=Europe/Madrid:20251228T183000
DTEND;TZID=Europe/Madrid:20251228T193000
DTSTAMP:20260421T033839
CREATED:20251218T224110Z
LAST-MODIFIED:20251218T224110Z
UID:10000026-1766946600-1766950200@ceorquestra.gal
SUMMARY:A Voar na Sala Abanca de A Estrada
DESCRIPTION:
URL:https://ceorquestra.gal/eventos/a-voar-na-sala-abanca-de-a-estrada/
LOCATION:Sala Abanca de A Estrada\, A Estrada
END:VEVENT
BEGIN:VEVENT
DTSTART;TZID=Europe/Madrid:20251227T180000
DTEND;TZID=Europe/Madrid:20251227T190000
DTSTAMP:20260421T033839
CREATED:20251218T223349Z
LAST-MODIFIED:20251218T223349Z
UID:10000025-1766858400-1766862000@ceorquestra.gal
SUMMARY:Presentación do Espectáculo "O Pandigueiro" en Mondariz
DESCRIPTION:
URL:https://ceorquestra.gal/eventos/presentacion-do-espectaculo-o-pandigueiro-en-mondariz/
LOCATION:Sala de Cultura de Mondaríz\, Mondariz balneario
END:VEVENT
BEGIN:VEVENT
DTSTART;TZID=Europe/Madrid:20251226T183000
DTEND;TZID=Europe/Madrid:20251226T193000
DTSTAMP:20260421T033839
CREATED:20251218T221836Z
LAST-MODIFIED:20251218T221836Z
UID:10000024-1766773800-1766777400@ceorquestra.gal
SUMMARY:A Voar na "Aldea de Nadal" de Vilagarcía
DESCRIPTION:
URL:https://ceorquestra.gal/eventos/a-voar-na-aldea-de-nadal-de-vilagarcia/
END:VEVENT
BEGIN:VEVENT
DTSTART;TZID=Europe/Madrid:20251221T190000
DTEND;TZID=Europe/Madrid:20251221T203000
DTSTAMP:20260421T033839
CREATED:20251218T221213Z
LAST-MODIFIED:20251218T221213Z
UID:10000023-1766343600-1766349000@ceorquestra.gal
SUMMARY:Pasarrúas e A Voar na Feira de nadal de Parga
DESCRIPTION:
URL:https://ceorquestra.gal/eventos/pasarruas-e-a-voar-na-feira-de-nadal-de-parga/
LOCATION:Nos cobertizos da feira de Parga\, Praza do vinteoito\, Parga\, Guitiriz\, Lugo
END:VEVENT
BEGIN:VEVENT
DTSTART;TZID=Europe/Madrid:20251221T123000
DTEND;TZID=Europe/Madrid:20251221T133000
DTSTAMP:20260421T033839
CREATED:20251218T220341Z
LAST-MODIFIED:20251218T220341Z
UID:10000022-1766320200-1766323800@ceorquestra.gal
SUMMARY:A Voar na Praza de Abastos de Cangas do Morrazo
DESCRIPTION:Estaremos co espectáculo A Voar dentro da programación  “Onde habita o Nadal”
URL:https://ceorquestra.gal/eventos/a-voar-na-praza-de-abastos-de-cangas-do-morrazo/
LOCATION:Praza de Abastos de Cangas\, CANGAS\, PONTEVEDRA\, 36940\, Spain
END:VEVENT
BEGIN:VEVENT
DTSTART;TZID=Europe/Madrid:20251220T190000
DTEND;TZID=Europe/Madrid:20251220T210000
DTSTAMP:20260421T033839
CREATED:20251218T191413Z
LAST-MODIFIED:20251218T191945Z
UID:10000021-1766257200-1766264400@ceorquestra.gal
SUMMARY:XX Aniversario Festival Rebulir\, Ramirás
DESCRIPTION:Alí estaremos presentando o acto.\nO Premio Rebulir de Cultura Galega\, nace no ano 2012 como un recoñecemento a persoas/colectivos que contribúan á difusión e posta en valor da cultura autóctona nas súas diferentes manifestacións. Un dos aspectos que defende este galardón é a proxección do nome de Galicia alén das súas fronteiras\, facendo fincapé no establecemento de vínculos interculturais e de raíz.\nA entrega do premio faise no marco da Gala central do FIR (Festival Internacional Rebulir) e consiste na entrega dun diploma acreditativo e dunha estatuilla identificativa do galardón.\n\nO Xurado está composto por diferentes representantes dos colectivos organizadores do Premio e tamén por convidados/as externos/as con unha traxectoria relevante no mundo da cultura galega.\n\nOs premiados deste ano 2025 son:\nMalvela\, Cristina Castaño\, Luar. A emigración galega en Euskadi obtivo o Premio Rogelio García Yáñez.
URL:https://ceorquestra.gal/eventos/ramiras-xx-aniversario-festival-rebulir/
LOCATION:O Picouto\, Ramirás\, O Picouto\, Ramirás\, Spain
END:VEVENT
BEGIN:VEVENT
DTSTART;TZID=Europe/Madrid:20251219T130000
DTEND;TZID=Europe/Madrid:20251219T140000
DTSTAMP:20260421T033839
CREATED:20251218T190648Z
LAST-MODIFIED:20251222T090329Z
UID:10000020-1766149200-1766152800@ceorquestra.gal
SUMMARY:TEO. Festa na Escola para o CRA de Teo
DESCRIPTION:
URL:https://ceorquestra.gal/eventos/ce-orquestra-festa-na-escola/
LOCATION:Cra de Teo\, Spain
END:VEVENT
BEGIN:VEVENT
DTSTART;TZID=Europe/Madrid:20251202T000000
DTEND;TZID=Europe/Madrid:20251202T130000
DTSTAMP:20260421T033839
CREATED:20251218T161128Z
LAST-MODIFIED:20251218T161458Z
UID:10000019-1764633600-1764680400@ceorquestra.gal
SUMMARY:Cé orquestra  na Facultade de Educación\, Ourense
DESCRIPTION:
URL:https://ceorquestra.gal/eventos/ce-orquestra-na-facultade-de-educacion-ourense/
END:VEVENT
BEGIN:VEVENT
DTSTART;TZID=Europe/Madrid:20250523T200000
DTEND;TZID=Europe/Madrid:20250523T200000
DTSTAMP:20260421T033839
CREATED:20250516T101200Z
LAST-MODIFIED:20251219T092256Z
UID:10000017-1748030400-1748030400@ceorquestra.gal
SUMMARY:Pontedeume. Cantos de Taberna.
DESCRIPTION:Nueva edición de los Cantos de Taberna de Pontedeume. Durante varias jornadas los presentes podrán disfrutar con la música y diversos actor programados. \nEl viernes 23 de Mayo comenzará la primera jornada con la participación de los músicos más nuevos\, que interpretarán piezas tradicionales en las plazas de la villa\, al tiempo que el grupo Os Feroces da Galgueira animará las calles con su música.\nA las 20.00 horas la Alameda de Raxoi acogerá una muestra del trabajo de las escuelas de Airiños do Eume\, seguida de la actuación de Cé Orquestra Pantasma con un espectáculo para público de todas las edades. Para culminar\, Os Feroces da Galgueira recorrerán de nuevo las calles. \nSábado 24\, el programa de eventos dará inicio con una feria de artesanía en la Alameda\, donde habrá productos tradicionales. Los cantos de taberna se llevarán a cabo en dos pases por la mañana y en dos pases por la tarde: a las 12.00 y 15.00 horas y a las 19.00 y 21.00 horas.\nTambién en este día se celebrará una comida en la Alameda para los grupos participantes\, abierta también a la asistencia de todo el público.\nPara finalizar\, tendrá lugar el tradicional concurso de agarrados que dará paso a los conciertos de clausura a cargo de los grupos Faiscas da Pontraga y Zurrumalla que se llevarán a cabo en la Alameda.
URL:https://ceorquestra.gal/eventos/pontedeume-cantos-de-taberna/
LOCATION:cantos de taberna\, Pontedeume\, A Coruña\, 15600\, Spain
CATEGORIES:Festas en Galicia
ATTACH;FMTTYPE=image/webp:https://ceorquestra.gal/wp-content/uploads/2025/05/cantos-de-taberna-pontedeume_img.webp
END:VEVENT
BEGIN:VEVENT
DTSTART;TZID=Europe/Madrid:20250519T080000
DTEND;TZID=Europe/Madrid:20250519T080000
DTSTAMP:20260421T033839
CREATED:20250516T100719Z
LAST-MODIFIED:20251219T092329Z
UID:10000016-1747641600-1747641600@ceorquestra.gal
SUMMARY:A Pobra do Brollón. Festa na Escola.
DESCRIPTION:Festa Na Escola\nUn espectáculo musical pensado para llenar de ritmo\, humor y alegría los patios y aulas. Cé Orquestra Pantasma transforma la escuela en una fiesta donde bailar\, cantar y reír se vuelven parte del aprendizaje.
URL:https://ceorquestra.gal/eventos/a-pobra-do-brollon-festa-na-escola/
LOCATION:POBRA DO BROLLON\, pobla do brollon\, lugo\, 27330\, Spain
CATEGORIES:Festa na escola
ATTACH;FMTTYPE=image/webp:https://ceorquestra.gal/wp-content/uploads/2025/04/animalada.webp
ORGANIZER;CN="Ce orquestra pantasma":MAILTO:sebastianbarcia@hotmail.com
END:VEVENT
BEGIN:VEVENT
DTSTART;TZID=Europe/Madrid:20250518T170000
DTEND;TZID=Europe/Madrid:20250518T170000
DTSTAMP:20260421T033839
CREATED:20250516T100340Z
LAST-MODIFIED:20251219T092329Z
UID:10000015-1747587600-1747587600@ceorquestra.gal
SUMMARY:Vigo. Festa veciñal en San Andrés de Comesaña.
DESCRIPTION:Un ano máis a sociedade cultural e veciñal Nautilius\, de San Andrés de Comesaña\, organiza a tradicional festa dos maios. Os participantes do desfile partirán ás 18.00h dende o torreiro\, xunto á Igrexa\, e o percorrido rematará no centro da sociedade cultural onde haberá animación e festa para todos. \nO domingo\, día 13\, a partir das 17.00h\, os veciños poderán desfrutar da actuación de CÉ\, ORQUESTRA PANTASMA\, ou máis coñecido como o home orquestra\, no centro da sociedade veciñal Nautilius. (Sanín nº54). A entrada é libre e o espectáculo é para todos os públicos.
URL:https://ceorquestra.gal/eventos/vigo-festa-vecinal-en-san-andres-de-comesana/
LOCATION:san andres de comesaña\, Camiño Sanín\, 54\,\, Vigo\, Pontevedra\, 36213\, Spain
ATTACH;FMTTYPE=image/webp:https://ceorquestra.gal/wp-content/uploads/2025/04/Festa-Miudinha-ceorquestra.webp
END:VEVENT
BEGIN:VEVENT
DTSTART;TZID=Europe/Madrid:20250517T080000
DTEND;TZID=Europe/Madrid:20250517T080000
DTSTAMP:20260421T033839
CREATED:20250516T095820Z
LAST-MODIFIED:20251219T092329Z
UID:10000014-1747468800-1747468800@ceorquestra.gal
SUMMARY:Celanova. Romaría Raigame en Vilanova dos Infantes
DESCRIPTION:A Romaría Etnográfica Raigame chega a unha nova edición nun ano 2025 no que a Real Academia Galega decidiu dedicarlle o día das Letras Galegas á literatura popular oral transmitida a través das Cantareias\, personificadas nas figuras de Adolfina e Rosa Casás Rama\, de Cerceda\, Eva Castiñeira Santos\, de Muxía\, e Manuela Lema\, Teresa García Prieto e Prudencia e Asunción Garrido Ameixenda\, integrantes estas catro das Pandeireteiras de Mens (Malpica)\, unha representación colectiva\, como xa fixera no ano 1998. Coa elección de 2025 quérese recoñecer a importancia da poesía popular oral\, que acompaña a nosa sociedade desde sempre\, tal como podemos ler na web da RAG. A Romaría Etnográfica Raigame súmase a esta celebración\, para o que deseñou unha programación na que as cantareiras e a poesía popoular teñen un papel destacado: actuacións e exhibicións\, exposicións\, documentais\, etc.\, e que terá como momento álxido a entrega do Premio Adolfo Enríquez ás Cantareiras da nosa provincia\, represenadas polas mulleres das aldeas dos concellos de Avión e Beariz. As representacións dos oficios tradicionais terán nesta edición un peso importante coa organización de numerosos obradoiros e demostracións didácticas coa intención de transmitir o seu coñecemento e traballo aos asistentes. Baile\, música\, artesanía\, teatro\, gastronomía\, exposicións\, xogos\, espectáculos de rúa\, contacontos\, e moitas outras actividades nunha xornada lúdico-cultural para celebrar o día das Letras Galegas coa divulgación\, transmisión e conservación da nosa lingua como obxectivo primordial.
URL:https://ceorquestra.gal/eventos/celanova-romaria-raigame-en-vilanova-dos-infantes/
LOCATION:celanova\, rua do castelo 9\, Vilanova dos infantes\, Ourense\, 32816\, Spain
CATEGORIES:Festas en Galicia
ATTACH;FMTTYPE=image/webp:https://ceorquestra.gal/wp-content/uploads/2025/05/Cartel-XXII-Romaria-Raigame-2025.webp
END:VEVENT
BEGIN:VEVENT
DTSTART;TZID=Europe/Madrid:20250516T000000
DTEND;TZID=Europe/Madrid:20250516T000000
DTSTAMP:20260421T033839
CREATED:20250516T094340Z
LAST-MODIFIED:20251219T092329Z
UID:10000013-1747353600-1747353600@ceorquestra.gal
SUMMARY:Culleredo. Festa na Escola.
DESCRIPTION:Festa Na Escola\nUn espectáculo musical pensado para llenar de ritmo\, humor y alegría los patios y aulas. Cé Orquestra Pantasma transforma la escuela en una fiesta donde bailar\, cantar y reír se vuelven parte del aprendizaje.
URL:https://ceorquestra.gal/eventos/culleredo-festa-na-escola/
LOCATION:culleredo\, culleredo\, A Coruña\, 15189\, Spain
CATEGORIES:Festa na escola
ATTACH;FMTTYPE=image/webp:https://ceorquestra.gal/wp-content/uploads/2025/04/festas-populares.webp
ORGANIZER;CN="Ce orquestra pantasma":MAILTO:sebastianbarcia@hotmail.com
END:VEVENT
BEGIN:VEVENT
DTSTART;TZID=Europe/Madrid:20250516T000000
DTEND;TZID=Europe/Madrid:20250516T000000
DTSTAMP:20260421T033839
CREATED:20250516T093902Z
LAST-MODIFIED:20251219T092329Z
UID:10000012-1747353600-1747353600@ceorquestra.gal
SUMMARY:Rianxo. Festa na Escola.
DESCRIPTION:Festa Na Escola\nUn espectáculo musical pensado para llenar de ritmo\, humor y alegría los patios y aulas. Cé Orquestra Pantasma transforma la escuela en una fiesta donde bailar\, cantar y reír se vuelven parte del aprendizaje.
URL:https://ceorquestra.gal/eventos/rianxo-festa-na-escola/
LOCATION:Rianxo\, https://maps.app.goo.gl/4V1PGXdXZ4P2WJAP7\, rianxo\, A Coruña\, Spain
CATEGORIES:Festa na escola
ATTACH;FMTTYPE=image/webp:https://ceorquestra.gal/wp-content/uploads/2025/04/a-voar-1.webp
ORGANIZER;CN="Ce orquestra pantasma":MAILTO:sebastianbarcia@hotmail.com
END:VEVENT
BEGIN:VEVENT
DTSTART;VALUE=DATE:20250515
DTEND;VALUE=DATE:20250516
DTSTAMP:20260421T033839
CREATED:20250516T093705Z
LAST-MODIFIED:20251219T092329Z
UID:10000011-1747267200-1747353599@ceorquestra.gal
SUMMARY:ORTIGUEIRA. Festa na Escola.
DESCRIPTION:Un espectáculo musical pensado para llenar de ritmo\, humor y alegría los patios y aulas. Cé Orquestra Pantasma transforma la escuela en una fiesta donde bailar\, cantar y reír se vuelven parte del aprendizaje.
URL:https://ceorquestra.gal/eventos/ortigueira-festa-na-escola/
CATEGORIES:Festa na escola
END:VEVENT
BEGIN:VEVENT
DTSTART;VALUE=DATE:20250515
DTEND;VALUE=DATE:20250516
DTSTAMP:20260421T033839
CREATED:20250516T093622Z
LAST-MODIFIED:20251219T092329Z
UID:10000010-1747267200-1747353599@ceorquestra.gal
SUMMARY:CARTELLE. Festa na Escola.
DESCRIPTION:Un espectáculo musical pensado para llenar de ritmo\, humor y alegría los patios y aulas. Cé Orquestra Pantasma transforma la escuela en una fiesta donde bailar\, cantar y reír se vuelven parte del aprendizaje.
URL:https://ceorquestra.gal/eventos/cartelle-festa-na-escola/
CATEGORIES:Festa na escola
END:VEVENT
BEGIN:VEVENT
DTSTART;VALUE=DATE:20250514
DTEND;VALUE=DATE:20250515
DTSTAMP:20260421T033839
CREATED:20250516T092403Z
LAST-MODIFIED:20251219T092329Z
UID:10000009-1747180800-1747267199@ceorquestra.gal
SUMMARY:TOQUES. Festa na Escola.
DESCRIPTION:
URL:https://ceorquestra.gal/eventos/toques-festa-na-escola/
LOCATION:toques
CATEGORIES:Festa na escola
END:VEVENT
END:VCALENDAR