BEGIN:VCALENDAR
VERSION:2.0
PRODID:-//Cé Orquestra Pantasma - ECPv6.15.20//NONSGML v1.0//EN
CALSCALE:GREGORIAN
METHOD:PUBLISH
X-WR-CALNAME:Cé Orquestra Pantasma
X-ORIGINAL-URL:https://ceorquestra.gal
X-WR-CALDESC:Events for Cé Orquestra Pantasma
REFRESH-INTERVAL;VALUE=DURATION:PT1H
X-Robots-Tag:noindex
X-PUBLISHED-TTL:PT1H
BEGIN:VTIMEZONE
TZID:Europe/Madrid
BEGIN:DAYLIGHT
TZOFFSETFROM:+0100
TZOFFSETTO:+0200
TZNAME:CEST
DTSTART:20240331T010000
END:DAYLIGHT
BEGIN:STANDARD
TZOFFSETFROM:+0200
TZOFFSETTO:+0100
TZNAME:CET
DTSTART:20241027T010000
END:STANDARD
BEGIN:DAYLIGHT
TZOFFSETFROM:+0100
TZOFFSETTO:+0200
TZNAME:CEST
DTSTART:20250330T010000
END:DAYLIGHT
BEGIN:STANDARD
TZOFFSETFROM:+0200
TZOFFSETTO:+0100
TZNAME:CET
DTSTART:20251026T010000
END:STANDARD
BEGIN:DAYLIGHT
TZOFFSETFROM:+0100
TZOFFSETTO:+0200
TZNAME:CEST
DTSTART:20260329T010000
END:DAYLIGHT
BEGIN:STANDARD
TZOFFSETFROM:+0200
TZOFFSETTO:+0100
TZNAME:CET
DTSTART:20261025T010000
END:STANDARD
END:VTIMEZONE
BEGIN:VEVENT
DTSTART;VALUE=DATE:20250515
DTEND;VALUE=DATE:20250516
DTSTAMP:20260421T052025
CREATED:20250516T093705Z
LAST-MODIFIED:20251219T092329Z
UID:10000011-1747267200-1747353599@ceorquestra.gal
SUMMARY:ORTIGUEIRA. Festa na Escola.
DESCRIPTION:Un espectáculo musical pensado para llenar de ritmo\, humor y alegría los patios y aulas. Cé Orquestra Pantasma transforma la escuela en una fiesta donde bailar\, cantar y reír se vuelven parte del aprendizaje.
URL:https://ceorquestra.gal/eventos/ortigueira-festa-na-escola/
LOCATION:A Coruña
CATEGORIES:Festa na escola
END:VEVENT
BEGIN:VEVENT
DTSTART;VALUE=DATE:20250515
DTEND;VALUE=DATE:20250516
DTSTAMP:20260421T052025
CREATED:20250516T093622Z
LAST-MODIFIED:20251219T092329Z
UID:10000010-1747267200-1747353599@ceorquestra.gal
SUMMARY:CARTELLE. Festa na Escola.
DESCRIPTION:Un espectáculo musical pensado para llenar de ritmo\, humor y alegría los patios y aulas. Cé Orquestra Pantasma transforma la escuela en una fiesta donde bailar\, cantar y reír se vuelven parte del aprendizaje.
URL:https://ceorquestra.gal/eventos/cartelle-festa-na-escola/
LOCATION:A Coruña
CATEGORIES:Festa na escola
END:VEVENT
BEGIN:VEVENT
DTSTART;VALUE=DATE:20250514
DTEND;VALUE=DATE:20250515
DTSTAMP:20260421T052025
CREATED:20250516T092403Z
LAST-MODIFIED:20251219T092329Z
UID:10000009-1747180800-1747267199@ceorquestra.gal
SUMMARY:TOQUES. Festa na Escola.
DESCRIPTION:
URL:https://ceorquestra.gal/eventos/toques-festa-na-escola/
LOCATION:toques
CATEGORIES:Festa na escola
END:VEVENT
END:VCALENDAR